BEGIN:VCALENDAR
VERSION:2.0
PRODID:-//Sacred Cocoon Healing, LLC - ECPv6.15.20//NONSGML v1.0//EN
CALSCALE:GREGORIAN
METHOD:PUBLISH
X-WR-CALNAME:Sacred Cocoon Healing, LLC
X-ORIGINAL-URL:https://sacred-cocoon.com
X-WR-CALDESC:Events for Sacred Cocoon Healing, LLC
REFRESH-INTERVAL;VALUE=DURATION:PT1H
X-Robots-Tag:noindex
X-PUBLISHED-TTL:PT1H
BEGIN:VTIMEZONE
TZID:America/New_York
BEGIN:DAYLIGHT
TZOFFSETFROM:-0500
TZOFFSETTO:-0400
TZNAME:EDT
DTSTART:20240310T070000
END:DAYLIGHT
BEGIN:STANDARD
TZOFFSETFROM:-0400
TZOFFSETTO:-0500
TZNAME:EST
DTSTART:20241103T060000
END:STANDARD
BEGIN:DAYLIGHT
TZOFFSETFROM:-0500
TZOFFSETTO:-0400
TZNAME:EDT
DTSTART:20250309T070000
END:DAYLIGHT
BEGIN:STANDARD
TZOFFSETFROM:-0400
TZOFFSETTO:-0500
TZNAME:EST
DTSTART:20251102T060000
END:STANDARD
BEGIN:DAYLIGHT
TZOFFSETFROM:-0500
TZOFFSETTO:-0400
TZNAME:EDT
DTSTART:20260308T070000
END:DAYLIGHT
BEGIN:STANDARD
TZOFFSETFROM:-0400
TZOFFSETTO:-0500
TZNAME:EST
DTSTART:20261101T060000
END:STANDARD
END:VTIMEZONE
BEGIN:VEVENT
DTSTART;TZID=America/New_York:20251022T180000
DTEND;TZID=America/New_York:20251022T200000
DTSTAMP:20260425T233205
CREATED:20250908T154525Z
LAST-MODIFIED:20250908T155828Z
UID:10000362-1761156000-1761163200@sacred-cocoon.com
SUMMARY:The Art of Card Reading
DESCRIPTION:The Art of Card Reading\nSpend the evening with Spirit and learn the art of card reading in a casual setting.  \nReceive a one hour lesson in reading oracle cards and then put your knowledge to practice by reading for yourself and others. Learn to work with the cards through multiple spreads\, explore the energies of different decks\, and choose a deck to take home with you! \nWe’ll talk about the best ways to formulate questions and how to interpret the information as it comes through. Practice connecting with the cards\, opening and closing your sacred space\, and deepening your relationship with all that is.  \nNo previous experience required. All materials will be provided\, but feel free to bring your own to learn on.  \n  \nRegistration required. Email Katie@FeelYourLight.com for info or to register. Register online at www.sacred-cocoon.com/events. \nLocated at The Sacred Cocoon at The Red Barn in Durham\, 352 Main Street\, Durham\, CT. Enter through the white door to the left of the main entrance to The Barn.
URL:https://sacred-cocoon.com/event/the-art-of-card-reading/
LOCATION:The Sacred Cocoon at The Red Barn in Durham\, 352 Main Street\, Durham\, CT\, 06422\, United States
CATEGORIES:Classes,witchy,Workshops
ATTACH;FMTTYPE=image/png:https://sacred-cocoon.com/wp-content/uploads/2025/09/Oracle-Card-Reading.png
END:VEVENT
END:VCALENDAR