BEGIN:VCALENDAR
VERSION:2.0
PRODID:-//Sacred Cocoon Healing, LLC - ECPv6.15.20//NONSGML v1.0//EN
CALSCALE:GREGORIAN
METHOD:PUBLISH
X-ORIGINAL-URL:https://sacred-cocoon.com
X-WR-CALDESC:Events for Sacred Cocoon Healing, LLC
REFRESH-INTERVAL;VALUE=DURATION:PT1H
X-Robots-Tag:noindex
X-PUBLISHED-TTL:PT1H
BEGIN:VTIMEZONE
TZID:America/New_York
BEGIN:DAYLIGHT
TZOFFSETFROM:-0500
TZOFFSETTO:-0400
TZNAME:EDT
DTSTART:20250309T070000
END:DAYLIGHT
BEGIN:STANDARD
TZOFFSETFROM:-0400
TZOFFSETTO:-0500
TZNAME:EST
DTSTART:20251102T060000
END:STANDARD
BEGIN:DAYLIGHT
TZOFFSETFROM:-0500
TZOFFSETTO:-0400
TZNAME:EDT
DTSTART:20260308T070000
END:DAYLIGHT
BEGIN:STANDARD
TZOFFSETFROM:-0400
TZOFFSETTO:-0500
TZNAME:EST
DTSTART:20261101T060000
END:STANDARD
BEGIN:DAYLIGHT
TZOFFSETFROM:-0500
TZOFFSETTO:-0400
TZNAME:EDT
DTSTART:20270314T070000
END:DAYLIGHT
BEGIN:STANDARD
TZOFFSETFROM:-0400
TZOFFSETTO:-0500
TZNAME:EST
DTSTART:20271107T060000
END:STANDARD
END:VTIMEZONE
BEGIN:VEVENT
DTSTART;TZID=America/New_York:20260524T090000
DTEND;TZID=America/New_York:20260524T170000
DTSTAMP:20260424T211458
CREATED:20260420T112124Z
LAST-MODIFIED:20260420T112124Z
UID:10000563-1779613200-1779642000@sacred-cocoon.com
SUMMARY:Gypsy Soul Experience - May Retreat
DESCRIPTION:The Gypsy Soul Experience May Retreat – \nHeart Immersion & Activation\n  \nMay 24th\, 2026. Bristol\, CT \nJoin Lisa Radzunas and Katie Cavenagh in a private sanctuary space for an intimate gathering of deep soul remembrance. The Gypsy Soul Experience gives your voice and presence a place to be seen\, heard\, held\, understood\, connected\, and transformed. \nA full immersion into the heart leads to exploration from a place of trust and clarity. You will be guided through a day of experiences to ground\, open\, heal\, and recalibrate the sacred self held within. \nIf you’re ready to ignite your soul and share in a sisterhood of light\, this retreat is for you. \n✨💛✨💛✨💛✨💛✨💛✨💛✨💛✨💛✨💛✨💛✨💛✨💛✨💛✨💛✨💛 \nPlease email KatieCavenagh@gmail.com for more information.
URL:https://sacred-cocoon.com/event/gypsy-soul-experience-may-retreat/
CATEGORIES:Healing,Retreats
ATTACH;FMTTYPE=image/webp:https://sacred-cocoon.com/wp-content/uploads/2026/04/Gypsy-Soul-Experience.webp
END:VEVENT
BEGIN:VEVENT
DTSTART;TZID=America/New_York:20260919T083000
DTEND;TZID=America/New_York:20260919T153000
DTSTAMP:20260424T211458
CREATED:20260328T160740Z
LAST-MODIFIED:20260417T132456Z
UID:10000548-1789806600-1789831800@sacred-cocoon.com
SUMMARY:Women's Wellness Retreat
DESCRIPTION:Women’s Wellness Retreat!\nOpen Barre’s first-ever wellness retreat\, designed to nourish the body\, mind\, and community. \nEnjoy energizing barre and grounding yoga classes\, a farm-to-table lunch\, and a deeply relaxing sound healing meditation. \nInformative and engaging speaker on women’s health and a pop up market\, featuring vendors curated with wellness and self care in mind. \nCreated for busy women who give so much to everyone else\, this retreat is an invitation to pause\, reconnect\, and truly invest in yourself. Leave feeling restored\, informed\, and empowered. \nJoin me for readings and sound healing! \nMore info coming soon!\n  \n 
URL:https://sacred-cocoon.com/event/womens-wellness-retreat/
LOCATION:Hotel Marcel\, New Haven\, CT\, United States
CATEGORIES:Retreats,Sound Healing
ATTACH;FMTTYPE=image/webp:https://sacred-cocoon.com/wp-content/uploads/2026/03/Inner-Peace-stacked-rocks-with-flower-and-reflection.webp
END:VEVENT
END:VCALENDAR