BEGIN:VCALENDAR
VERSION:2.0
PRODID:-//Sacred Cocoon Healing, LLC - ECPv6.15.20//NONSGML v1.0//EN
CALSCALE:GREGORIAN
METHOD:PUBLISH
X-WR-CALNAME:Sacred Cocoon Healing, LLC
X-ORIGINAL-URL:https://sacred-cocoon.com
X-WR-CALDESC:Events for Sacred Cocoon Healing, LLC
REFRESH-INTERVAL;VALUE=DURATION:PT1H
X-Robots-Tag:noindex
X-PUBLISHED-TTL:PT1H
BEGIN:VTIMEZONE
TZID:America/New_York
BEGIN:DAYLIGHT
TZOFFSETFROM:-0500
TZOFFSETTO:-0400
TZNAME:EDT
DTSTART:20250309T070000
END:DAYLIGHT
BEGIN:STANDARD
TZOFFSETFROM:-0400
TZOFFSETTO:-0500
TZNAME:EST
DTSTART:20251102T060000
END:STANDARD
BEGIN:DAYLIGHT
TZOFFSETFROM:-0500
TZOFFSETTO:-0400
TZNAME:EDT
DTSTART:20260308T070000
END:DAYLIGHT
BEGIN:STANDARD
TZOFFSETFROM:-0400
TZOFFSETTO:-0500
TZNAME:EST
DTSTART:20261101T060000
END:STANDARD
BEGIN:DAYLIGHT
TZOFFSETFROM:-0500
TZOFFSETTO:-0400
TZNAME:EDT
DTSTART:20270314T070000
END:DAYLIGHT
BEGIN:STANDARD
TZOFFSETFROM:-0400
TZOFFSETTO:-0500
TZNAME:EST
DTSTART:20271107T060000
END:STANDARD
END:VTIMEZONE
BEGIN:VEVENT
DTSTART;TZID=America/New_York:20260918T200000
DTEND;TZID=America/New_York:20260920T173000
DTSTAMP:20260425T084137
CREATED:20260323T145513Z
LAST-MODIFIED:20260323T145513Z
UID:10000541-1789761600-1789925400@sacred-cocoon.com
SUMMARY:Transcend Fest: Power of Words
DESCRIPTION:Transcend Fest is September 18th-20th. I will be teaching The Power of Words: Rewrite Your Reality at 4:30pm on Sunday\, September 20th.\n\nReserve your spot for class here\, get your Transcend Fest Tickets here.\n\nOverview\n\n\n\n\nStep into a weekend of movement\, magic\, and mountain energy. Transcend Fest CT 2026 invites you to rise + reconnect. ✨ \n\n\n\n\nWelcome to Transcend Fest CT 2026 — a vibrant weekend where movement meets magic\, inner peace meets mountain air\, and community meets cosmic celebration. Whether you’re a seasoned yogi or simply curious about stepping into a more expansive version of yourself\, this is your invitation to rise\, connect\, and transcend. \nWhat to Expect: \n\nA curated lineup of yoga\, movement\, and spiritual workshops designed to awaken and support your full spectrum: body\, mind & soul.\nMindful Market & wellness vendors — explore handcrafted goods\, sacred tools\, nutritious bites\, and conscious connections.\nTranscend Kick off Concert — as twilight falls\, tune into live music\, DJs\, and dance under the stars; celebrate the joy of community and release into rhythm.\nA setting woven into nature — breathe deeply in a mountain-top venue\, surrounded by lush landscapes\, fresh air\, and expansive vistas that support your inner journey.\n\nWhy this weekend matters:\nBecause something magical happens when people gather with open hearts\, intention\, and the courage to raise their vibration together. When you join Transcend Fest\, you’re not just attending a festival — you’re stepping into a safe container for self-exploration\, growth\, and fun. You’ll leave with more than memories; you’ll leave with new friends\, elevated practice\, and a spark that stays lit long after the weekend ends. \nWho should be there: \n\nYoga and wellness lovers ready to deepen or diversify their practice.\nSpirit-seekers craving community\, stillness\, sound\, and movement.\nAnyone longing to step away from the everyday\, reconnect to purpose\, and immerse in a weekend of elevation.\nStudio owners\, teachers\, vendors\, wellness entrepreneurs — there’s space here for you to shine\, collaborate\, and build.\n\nHighlights: \n\nDaily classes spanning vinyasa\, kundalini\, restorative\, sound healing\, meditation + more.\nExpert facilitators bringing unique styles\, voices\, and transformational tools.\nEvening programming that shifts energy and invites celebration (yes\, movement after dark!).\nCamping and lodging add-ons — stay on-site\, wake up in nature\, and lean fully into the experience.\nThe non-negotiables: wristbands for entry\, no glass on site\, leave-no-trace mindset\, pets not recommended (service dogs welcome).\n\nTicket info & details:\nEarly bird access\, add-ons like Friday night kick-off\, meals\, and camping lodging will be available. \nNote: All ticket sales are final — no refunds. \nMark your calendar.\nSet your intentions\, pack your mat\, bring your curiosity\, and get ready to ascend with us. 2026 is your year to transcend. \n🔗 For full schedule\, lodging\, vendor files and more: www.transcendfest.com \nMore questions? Feel free to drop us a note: info@transcendfest.com \nSee you on the mountain! \nGet your tickets here
URL:https://sacred-cocoon.com/event/transcend-fest-power-of-words/
LOCATION:Powder Ridge\, 99 Powder Hill Road\, Middlefield\, CT\, 06455\, United States
CATEGORIES:Classes
ATTACH;FMTTYPE=image/png:https://sacred-cocoon.com/wp-content/uploads/2026/03/transcend-fest.png
END:VEVENT
END:VCALENDAR