BEGIN:VCALENDAR
VERSION:2.0
PRODID:-//Sacred Cocoon Healing, LLC - ECPv6.15.20//NONSGML v1.0//EN
CALSCALE:GREGORIAN
METHOD:PUBLISH
X-WR-CALNAME:Sacred Cocoon Healing, LLC
X-ORIGINAL-URL:https://sacred-cocoon.com
X-WR-CALDESC:Events for Sacred Cocoon Healing, LLC
REFRESH-INTERVAL;VALUE=DURATION:PT1H
X-Robots-Tag:noindex
X-PUBLISHED-TTL:PT1H
BEGIN:VTIMEZONE
TZID:America/New_York
BEGIN:DAYLIGHT
TZOFFSETFROM:-0500
TZOFFSETTO:-0400
TZNAME:EDT
DTSTART:20250309T070000
END:DAYLIGHT
BEGIN:STANDARD
TZOFFSETFROM:-0400
TZOFFSETTO:-0500
TZNAME:EST
DTSTART:20251102T060000
END:STANDARD
BEGIN:DAYLIGHT
TZOFFSETFROM:-0500
TZOFFSETTO:-0400
TZNAME:EDT
DTSTART:20260308T070000
END:DAYLIGHT
BEGIN:STANDARD
TZOFFSETFROM:-0400
TZOFFSETTO:-0500
TZNAME:EST
DTSTART:20261101T060000
END:STANDARD
BEGIN:DAYLIGHT
TZOFFSETFROM:-0500
TZOFFSETTO:-0400
TZNAME:EDT
DTSTART:20270314T070000
END:DAYLIGHT
BEGIN:STANDARD
TZOFFSETFROM:-0400
TZOFFSETTO:-0500
TZNAME:EST
DTSTART:20271107T060000
END:STANDARD
END:VTIMEZONE
BEGIN:VEVENT
DTSTART;TZID=America/New_York:20260421T100000
DTEND;TZID=America/New_York:20260421T123000
DTSTAMP:20260425T084042
CREATED:20260416T125753Z
LAST-MODIFIED:20260417T132027Z
UID:10000553-1776765600-1776774600@sacred-cocoon.com
SUMMARY:ReikiSound Facilitator Certification
DESCRIPTION:ReikiSound Facilitator Certification\nAre you Reiki attuned and looking to enhance your ability to channel energy for self healing and/or private clients? Have you been interested or curious about adding the element of sound to your practice? What would a new layer of knowledge do for your personal and professional life? \nWorking with sound amplifies energy as well as helps in opening you up to new levels of awareness. Explore the different ways using sound can amplify your energy.  Find out how to apply it to your current routine and practice. \nTaking aspects of mindfulness\, meditation\, Reiki\, and consciousness\, this intensive is designed to expand your knowledge base. It approaches a new perspective on the ability to give and receive healing for yourself and others. It’s a deep dive into the elemental chakra system and its corresponding sound vibrations. \nDevelop your Reiki skills alongside a sound practice to deepen your connection to yourself and Spirit. Learn the kotodama for the healing symbols. Practice hands-on as well as distance Reiki with sound and allow yourself to step into a new level of healing. \nReikiSound Info\nReceive instruction on multiple instruments or focus specifically on what you currently play/will be playing in the future.  \nNo instruments or experience with sound healing required. A variety of instruments will be available\, but feel free to bring your own instruments to learn and practice on. A printed manual and certificate of completion will be provided. \nQuestions? Interested in the 30 Hour Sound Facilitator Certification Training? Please email Katie at info@sacred-cocoon.com or visit https://sacred-cocoon.com/sound-healer-training/ for more information. \nReikiSound I – April 21st 10am-12:30pm\nReikiSound II – May 26th 10am-12:30pm \n***Please note that this is NOT Reiki training and may vary from your previous instruction. You must already be attuned (Reiki level 2 or above) as no attunements will be provided during class. Thank you for understanding.
URL:https://sacred-cocoon.com/event/reikisound-facilitator-certification/
LOCATION:The Sacred Cocoon at The Red Barn in Durham\, 352 Main Street\, Durham\, CT\, 06422\, United States
CATEGORIES:Sound Healer Training
ATTACH;FMTTYPE=image/webp:https://sacred-cocoon.com/wp-content/uploads/2026/04/ReikiSound.webp
END:VEVENT
END:VCALENDAR