BEGIN:VCALENDAR
VERSION:2.0
PRODID:-//Sacred Cocoon Healing, LLC - ECPv6.15.20//NONSGML v1.0//EN
CALSCALE:GREGORIAN
METHOD:PUBLISH
X-WR-CALNAME:Sacred Cocoon Healing, LLC
X-ORIGINAL-URL:https://sacred-cocoon.com
X-WR-CALDESC:Events for Sacred Cocoon Healing, LLC
REFRESH-INTERVAL;VALUE=DURATION:PT1H
X-Robots-Tag:noindex
X-PUBLISHED-TTL:PT1H
BEGIN:VTIMEZONE
TZID:America/New_York
BEGIN:DAYLIGHT
TZOFFSETFROM:-0500
TZOFFSETTO:-0400
TZNAME:EDT
DTSTART:20250309T070000
END:DAYLIGHT
BEGIN:STANDARD
TZOFFSETFROM:-0400
TZOFFSETTO:-0500
TZNAME:EST
DTSTART:20251102T060000
END:STANDARD
BEGIN:DAYLIGHT
TZOFFSETFROM:-0500
TZOFFSETTO:-0400
TZNAME:EDT
DTSTART:20260308T070000
END:DAYLIGHT
BEGIN:STANDARD
TZOFFSETFROM:-0400
TZOFFSETTO:-0500
TZNAME:EST
DTSTART:20261101T060000
END:STANDARD
BEGIN:DAYLIGHT
TZOFFSETFROM:-0500
TZOFFSETTO:-0400
TZNAME:EDT
DTSTART:20270314T070000
END:DAYLIGHT
BEGIN:STANDARD
TZOFFSETFROM:-0400
TZOFFSETTO:-0500
TZNAME:EST
DTSTART:20271107T060000
END:STANDARD
END:VTIMEZONE
BEGIN:VEVENT
DTSTART;TZID=America/New_York:20260503T113000
DTEND;TZID=America/New_York:20260503T133000
DTSTAMP:20260424T210909
CREATED:20260324T220517Z
LAST-MODIFIED:20260324T220533Z
UID:10000546-1777807800-1777815000@sacred-cocoon.com
SUMMARY:Beltane Moon Wreath Making Event
DESCRIPTION:Beltane Moon Wreath Making Event\nBeltane is a time to honor the Earth\, her abundance\, life\, renewal\, and fertility. Celebrated May 1st\, Beltane is a Pagan fire sabbat marking the halfway point between the equinox and solstice\, welcoming in the blossoms of the season.  \nUnder the Flower Full Moon in Scorpio\, the blooming of spring ignites our passions. What are you birthing into existence within your life? What new ideas have taken seed? What needs nurturing or attention? What are you looking to build for yourself this year? \nGather at The Sacred Cocoon at The Red Barn in Durham to create a Flower Full Moon Wreath in honor of Beltane. All materials will be provided\, however if there is something you would like to add from home\, feel free to bring it. \nTo celebrate our creations and anchor in our intentions\, we will end with a short cacao ceremony and a reiki-sound healing. \nQuestions? Please email KatieCavenagh@gmail.com
URL:https://sacred-cocoon.com/event/beltane-moon-wreath-making-event/
LOCATION:The Sacred Cocoon at The Red Barn in Durham\, 352 Main Street\, Durham\, CT\, 06422\, United States
CATEGORIES:Wheel of the Year,witchy,Workshops
ATTACH;FMTTYPE=image/webp:https://sacred-cocoon.com/wp-content/uploads/2026/03/Beltane-Moon-Wreath.webp
END:VEVENT
BEGIN:VEVENT
DTSTART;TZID=America/New_York:20260506T170000
DTEND;TZID=America/New_York:20260506T180000
DTSTAMP:20260424T210909
CREATED:20260419T120119Z
LAST-MODIFIED:20260420T201736Z
UID:10000556-1778086800-1778090400@sacred-cocoon.com
SUMMARY:Magickal May Series
DESCRIPTION:Magickal May Wednesdays 5-6pm\nCome on a four week journey into your most magickal self. This series is designed to deepen your connection to Source\, your guides\, and intuition. Focus on aligning your energy to manifest what you desire. Live from a place of personal power and watch the magick of your life unfold. \n  \nMagickal May Schedule\n6th – Connecting to Universal Energy \nDeepen your connection to yourself and to the universe. Use hypnotic meditation techniques to alter your state of consciousness to receive healing\, wisdom\, guidance\, and information from beyond. Discover the best way for you to feel comfortable exploring your intuition and innate power. \n  \n13th – Aligning Your Words & Thoughts \nYour words and thoughts contribute heavily to what you experience in your reality. Dig and uproot what’s been anchoring you down to aspects of your life you aren’t satisfied with. Transform your speaking and thinking habits with a few simple tweaks to your routine that will help changes stick for good. \n  \n20th – Cosmic Frequencies & Astrology Basics \nGrasp a basic understanding of how astrology works and why using it can help you manifest your desires. Look into the different ways understanding the basics shapes your personality and transforms your life. Create a connection to the cosmos that works for you\, and get your basic astrology questions answered. \n  \n27th – Clairs\, Guides\, and Consciousness \nLearn about the Clairs and which ones are your strongest. Discuss what types of guides might work with you and how to connect with them. Open up to receiving information from beyond with a guided gong bath. Have an experience with your higher consciousness to anchor in the connection to the universe. \n  \nInfo\nClasses are $25 each. Full series (4) paid in advance $85.  \nQuestions? Please email Katie at info@sacred-cocoon.com. Visit the blog for tips and information on the topics of this series (content varies).
URL:https://sacred-cocoon.com/event/magickal-may-series/
LOCATION:The Sacred Cocoon at The Red Barn in Durham\, 352 Main Street\, Durham\, CT\, 06422\, United States
CATEGORIES:Classes
ATTACH;FMTTYPE=image/webp:https://sacred-cocoon.com/wp-content/uploads/2026/04/Magickal-May.webp
END:VEVENT
BEGIN:VEVENT
DTSTART;TZID=America/New_York:20260510T100000
DTEND;TZID=America/New_York:20260510T110000
DTSTAMP:20260424T210909
CREATED:20260416T122101Z
LAST-MODIFIED:20260416T122101Z
UID:10000552-1778407200-1778410800@sacred-cocoon.com
SUMMARY:Mother's Day Salt & Sound Meditation
DESCRIPTION:Mother’s Day Salt & Sound Meditation\nFind your zen in the SoulShine Salt Cavern with a restorative Salt & Sound meditation led by Katie Cavenagh. Let the salt cleanse and purify while the vibrations of the gongs help shake loose what you no longer need to energetically carry. Restore balance and harmony to your body\, mind\, and energy field and leave feeling lighter\, clearer\, and relaxed.  \nGravity chairs are provided. Feel free to bring a blanket and water. Please note that white or light colored socks are required for the salt cave. \nSpace is limited to 10. RSVP for this salt & sound meditation to Katie at info@sacred-cocoon.com or text 860.655.5527. Buy tickets online below.
URL:https://sacred-cocoon.com/event/mothers-day-salt-sound-meditation/
LOCATION:SoulShine Salt Cavern\, 352 Main Street\, Durham\, CT\, 06422\, United States
CATEGORIES:Salt Cave Events
ATTACH;FMTTYPE=image/jpeg:https://sacred-cocoon.com/wp-content/uploads/2025/10/Gongs-for-sound-healing-in-the-salt-cave.jpg
END:VEVENT
BEGIN:VEVENT
DTSTART;TZID=America/New_York:20260513T170000
DTEND;TZID=America/New_York:20260513T180000
DTSTAMP:20260424T210909
CREATED:20260419T120253Z
LAST-MODIFIED:20260419T120253Z
UID:10000557-1778691600-1778695200@sacred-cocoon.com
SUMMARY:Magickal May Series
DESCRIPTION:Magickal May Wednesdays 5-6pm\nJoin Katie Cavenagh on a four week journey into your most magickal self during the month of May. No matter if you’re a newbie or a seasoned chef in the universal kitchen\, this series will deepen your connection. Take the chance on yourself to create what you’ve always wanted. Live from a place of personal power and stop waiting for “someday”. Step into your magick and may every day keep getting better and better and better.  \n  \nMagickal May Schedule\n6th – Connecting to Universal Energy \nDeepen your connection to yourself and to the universe. Use hypnotic meditation techniques to alter your state of consciousness to receive healing\, wisdom\, guidance\, and information from beyond. Discover the best way for you to feel comfortable exploring your intuition and innate power. \n  \n13th – Aligning Your Words & Thoughts \nYour words and thoughts contribute heavily to what you experience in your reality. Dig and uproot what’s been anchoring you down to aspects of your life you aren’t satisfied with. Transform your speaking and thinking habits with a few simple tweaks to your routine that will help changes stick for good. \n  \n20th – Cosmic Frequencies & Astrology Basics \nGrasp a basic understanding of how astrology works and why using it can help you manifest your desires. Look into the different ways understanding the basics shapes your personality and transforms your life. Create a connection to the cosmos that works for you\, and get your basic astrology questions answered. \n  \n27th – Clairs\, Guides\, and Consciousness \nLearn about the Clairs and which ones are your strongest. Discuss what types of guides might work with you and how to connect with them. Open up to receiving information from beyond with a guided gong bath. Have an experience with your higher consciousness to anchor in the connection to the universe. \n  \nInfo\nClasses are $25 each. Full series (4) paid in advance $85.  \nQuestions? Please email Katie at info@sacred-cocoon.com. Visit the blog for tips and information on the topics of this series (content varies).
URL:https://sacred-cocoon.com/event/magickal-may-series-2/
LOCATION:The Sacred Cocoon at The Red Barn in Durham\, 352 Main Street\, Durham\, CT\, 06422\, United States
CATEGORIES:Classes
ATTACH;FMTTYPE=image/webp:https://sacred-cocoon.com/wp-content/uploads/2026/04/Magickal-May.webp
END:VEVENT
BEGIN:VEVENT
DTSTART;TZID=America/New_York:20260520T170000
DTEND;TZID=America/New_York:20260520T180000
DTSTAMP:20260424T210909
CREATED:20260419T120409Z
LAST-MODIFIED:20260419T120409Z
UID:10000558-1779296400-1779300000@sacred-cocoon.com
SUMMARY:Magickal May Series
DESCRIPTION:Magickal May Wednesdays 5-6pm\nJoin Katie Cavenagh on a four week journey into your most magickal self during the month of May. No matter if you’re a newbie or a seasoned chef in the universal kitchen\, this series will deepen your connection. Take the chance on yourself to create what you’ve always wanted. Live from a place of personal power and stop waiting for “someday”. Step into your magick and may every day keep getting better and better and better.  \n  \nMagickal May Schedule\n6th – Connecting to Universal Energy \nDeepen your connection to yourself and to the universe. Use hypnotic meditation techniques to alter your state of consciousness to receive healing\, wisdom\, guidance\, and information from beyond. Discover the best way for you to feel comfortable exploring your intuition and innate power. \n  \n13th – Aligning Your Words & Thoughts \nYour words and thoughts contribute heavily to what you experience in your reality. Dig and uproot what’s been anchoring you down to aspects of your life you aren’t satisfied with. Transform your speaking and thinking habits with a few simple tweaks to your routine that will help changes stick for good. \n  \n20th – Cosmic Frequencies & Astrology Basics \nGrasp a basic understanding of how astrology works and why using it can help you manifest your desires. Look into the different ways understanding the basics shapes your personality and transforms your life. Create a connection to the cosmos that works for you\, and get your basic astrology questions answered. \n  \n27th – Clairs\, Guides\, and Consciousness \nLearn about the Clairs and which ones are your strongest. Discuss what types of guides might work with you and how to connect with them. Open up to receiving information from beyond with a guided gong bath. Have an experience with your higher consciousness to anchor in the connection to the universe. \n  \nInfo\nClasses are $25 each. Full series (4) paid in advance $85.  \nQuestions? Please email Katie at info@sacred-cocoon.com. Visit the blog for tips and information on the topics of this series (content varies).
URL:https://sacred-cocoon.com/event/magickal-may-series-3/
LOCATION:The Sacred Cocoon at The Red Barn in Durham\, 352 Main Street\, Durham\, CT\, 06422\, United States
CATEGORIES:Classes
ATTACH;FMTTYPE=image/webp:https://sacred-cocoon.com/wp-content/uploads/2026/04/Magickal-May.webp
END:VEVENT
BEGIN:VEVENT
DTSTART;TZID=America/New_York:20260522T110000
DTEND;TZID=America/New_York:20260522T160000
DTSTAMP:20260424T210909
CREATED:20260416T141324Z
LAST-MODIFIED:20260416T141324Z
UID:10000554-1779447600-1779465600@sacred-cocoon.com
SUMMARY:Level 2 Gong Training
DESCRIPTION:Level 2 Gong Training\nTake a deep dive into the elements of Space and Consciousness in this intensive Level 2 Gongs training. \nAre you ready to explore what the gongs can really do for you? Have you ever wanted to alter your state of consciousness so you could journey to receive some wisdom or healing? Do you want to be able to connect others to the limitless parts of themselves? Could you be ready to expand your capacity? \nBring your gong playing to a whole new level by exploring the mystical side of consciousness. With hands-on experience\, you will learn techniques to open your consciousness\, channel cosmic frequencies\, and align with your innate mystical knowledge. \nUse the element of Space to expand your energy field and the ways you tap into healing vibrations. Let the gongs connect with you on a deep and personal level to resolve or shake loose your subconscious patterns. Anchor in the exercises in your body\, mind\, and field so you can guide your clients through their own voyage of self-reflection. \nBuild on the teachings from Gongs Level 1 and hone your mallet skills\, dynamics\, variations\, journeying\, and overall soundscape creation. First-hand experience and practice allows you to feel comfortable leading yourself and others through a Mystical Gong Bath. \nLevel 2 Gong Training Info\nThe gongs provide a unique vibrational sound experience unlike any other. Multiple size gongs will be available for you to learn on. If you have your own you are encouraged to bring them\, along with your mallets and other accessories you use. This is important for mapping purposes as no two gongs are alike. The more you know your personal gongs\, the more transcendental your sessions will be.  \nPrevious sound healer instruction on gongs is required for this intensive Level 2 Gong Training. You will receive a printed manual and certificate of completion for this class. \nHave questions or are interested in Gongs Level 1 or the 30 Hour Sound Facilitator Certification Training? Please email Katie at info@sacred-cocoon.com or visit https://sacred-cocoon.com/sound-healer-training/ for more information. \n 
URL:https://sacred-cocoon.com/event/level-2-gong-training/
LOCATION:The Sacred Cocoon at The Red Barn in Durham\, 352 Main Street\, Durham\, CT\, 06422\, United States
CATEGORIES:Sound Healer Training
ATTACH;FMTTYPE=image/jpeg:https://sacred-cocoon.com/wp-content/uploads/2026/02/IMG_1343-scaled.jpeg
END:VEVENT
BEGIN:VEVENT
DTSTART;TZID=America/New_York:20260526T100000
DTEND;TZID=America/New_York:20260526T123000
DTSTAMP:20260424T210909
CREATED:20260417T132317Z
LAST-MODIFIED:20260417T132317Z
UID:10000555-1779789600-1779798600@sacred-cocoon.com
SUMMARY:ReikiSound Facilitator Certification Level 2
DESCRIPTION:ReikiSound Facilitator Certification\nAre you Reiki attuned and looking to enhance your ability to channel energy for self healing and/or private clients? Have you been interested or curious about adding the element of sound to your practice? What would a new layer of knowledge do for your personal and professional life? \nWorking with sound amplifies energy as well as helps in opening you up to new levels of awareness. Explore the different ways using sound can amplify your energy.  Find out how to apply it to your current routine and practice. \nTaking aspects of mindfulness\, meditation\, Reiki\, and consciousness\, this intensive is designed to expand your knowledge base. It approaches a new perspective on the ability to give and receive healing for yourself and others. It’s a deep dive into the elemental chakra system and its corresponding sound vibrations. \nDevelop your Reiki skills alongside a sound practice to deepen your connection to yourself and Spirit. Learn the kotodama for the healing symbols. Practice hands-on as well as distance Reiki with sound and allow yourself to step into a new level of healing. \nReikiSound Info\nReceive instruction on multiple instruments or focus specifically on what you currently play/will be playing in the future.  \nNo instruments or experience with sound healing required. A variety of instruments will be available\, but feel free to bring your own instruments to learn and practice on. A printed manual and certificate of completion will be provided. \nQuestions? Interested in the 30 Hour Sound Facilitator Certification Training? Please email Katie at info@sacred-cocoon.com or visit https://sacred-cocoon.com/sound-healer-training/ for more information. \nReikiSound I – April 21st 10am-12:30pm\nReikiSound II – May 26th 10am-12:30pm \n***Please note that this is NOT Reiki training and may vary from your previous instruction. You must already be attuned (Reiki level 2 or above) as no attunements will be provided during class. Thank you for understanding.
URL:https://sacred-cocoon.com/event/reikisound-facilitator-certification-level-2/
LOCATION:The Sacred Cocoon at The Red Barn in Durham\, 352 Main Street\, Durham\, CT\, 06422\, United States
CATEGORIES:Sound Healer Training
ATTACH;FMTTYPE=image/webp:https://sacred-cocoon.com/wp-content/uploads/2026/04/ReikiSound.webp
END:VEVENT
BEGIN:VEVENT
DTSTART;TZID=America/New_York:20260527T170000
DTEND;TZID=America/New_York:20260527T180000
DTSTAMP:20260424T210909
CREATED:20260419T120504Z
LAST-MODIFIED:20260419T120504Z
UID:10000559-1779901200-1779904800@sacred-cocoon.com
SUMMARY:Magickal May Series
DESCRIPTION:Magickal May Wednesdays 5-6pm\nJoin Katie Cavenagh on a four week journey into your most magickal self during the month of May. No matter if you’re a newbie or a seasoned chef in the universal kitchen\, this series will deepen your connection. Take the chance on yourself to create what you’ve always wanted. Live from a place of personal power and stop waiting for “someday”. Step into your magick and may every day keep getting better and better and better.  \n  \nMagickal May Schedule\n6th – Connecting to Universal Energy \nDeepen your connection to yourself and to the universe. Use hypnotic meditation techniques to alter your state of consciousness to receive healing\, wisdom\, guidance\, and information from beyond. Discover the best way for you to feel comfortable exploring your intuition and innate power. \n  \n13th – Aligning Your Words & Thoughts \nYour words and thoughts contribute heavily to what you experience in your reality. Dig and uproot what’s been anchoring you down to aspects of your life you aren’t satisfied with. Transform your speaking and thinking habits with a few simple tweaks to your routine that will help changes stick for good. \n  \n20th – Cosmic Frequencies & Astrology Basics \nGrasp a basic understanding of how astrology works and why using it can help you manifest your desires. Look into the different ways understanding the basics shapes your personality and transforms your life. Create a connection to the cosmos that works for you\, and get your basic astrology questions answered. \n  \n27th – Clairs\, Guides\, and Consciousness \nLearn about the Clairs and which ones are your strongest. Discuss what types of guides might work with you and how to connect with them. Open up to receiving information from beyond with a guided gong bath. Have an experience with your higher consciousness to anchor in the connection to the universe. \n  \nInfo\nClasses are $25 each. Full series (4) paid in advance $85.  \nQuestions? Please email Katie at info@sacred-cocoon.com. Visit the blog for tips and information on the topics of this series (content varies).
URL:https://sacred-cocoon.com/event/magickal-may-series-4/
LOCATION:The Sacred Cocoon at The Red Barn in Durham\, 352 Main Street\, Durham\, CT\, 06422\, United States
CATEGORIES:Classes
ATTACH;FMTTYPE=image/webp:https://sacred-cocoon.com/wp-content/uploads/2026/04/Magickal-May.webp
END:VEVENT
END:VCALENDAR