BEGIN:VCALENDAR
VERSION:2.0
PRODID:-//Sacred Cocoon Healing, LLC - ECPv6.15.20//NONSGML v1.0//EN
CALSCALE:GREGORIAN
METHOD:PUBLISH
X-ORIGINAL-URL:https://sacred-cocoon.com
X-WR-CALDESC:Events for Sacred Cocoon Healing, LLC
REFRESH-INTERVAL;VALUE=DURATION:PT1H
X-Robots-Tag:noindex
X-PUBLISHED-TTL:PT1H
BEGIN:VTIMEZONE
TZID:America/New_York
BEGIN:DAYLIGHT
TZOFFSETFROM:-0500
TZOFFSETTO:-0400
TZNAME:EDT
DTSTART:20240310T070000
END:DAYLIGHT
BEGIN:STANDARD
TZOFFSETFROM:-0400
TZOFFSETTO:-0500
TZNAME:EST
DTSTART:20241103T060000
END:STANDARD
BEGIN:DAYLIGHT
TZOFFSETFROM:-0500
TZOFFSETTO:-0400
TZNAME:EDT
DTSTART:20250309T070000
END:DAYLIGHT
BEGIN:STANDARD
TZOFFSETFROM:-0400
TZOFFSETTO:-0500
TZNAME:EST
DTSTART:20251102T060000
END:STANDARD
BEGIN:DAYLIGHT
TZOFFSETFROM:-0500
TZOFFSETTO:-0400
TZNAME:EDT
DTSTART:20260308T070000
END:DAYLIGHT
BEGIN:STANDARD
TZOFFSETFROM:-0400
TZOFFSETTO:-0500
TZNAME:EST
DTSTART:20261101T060000
END:STANDARD
END:VTIMEZONE
BEGIN:VEVENT
DTSTART;TZID=America/New_York:20251213T110000
DTEND;TZID=America/New_York:20251213T160000
DTSTAMP:20260425T134928
CREATED:20251125T144324Z
LAST-MODIFIED:20251125T144324Z
UID:10000446-1765623600-1765641600@sacred-cocoon.com
SUMMARY:Singing Bowls Level 2
DESCRIPTION:Have you been using sound for yourself and your clients? It’s being shown more and more how therapeutic sound can help relax and balance the body and mind. Let this be an invitation to deepen your sound meditation practice with Singing Bowls Level 2.  \nDesigned with group and private sessions in mind\, this class will help you create therapeutic soundscapes for relaxation and healing. You’ll get to be on both the giving and receiving side\, with plenty of hands-on practice to hone your skills. \nExplore expanded techniques for playing both the metal and crystal bowls. Discover new ways to create\, facilitate\, and collaborate on meditations and sound baths. Learn basic music theory about chords and rhythm to help you work the more musical side of your singing bowls. \nExpand your capacity for healing and holding space with exercises designed to push you past your limits. Dive into your inner self while working with the bowls as you welcome in new awareness. This class is just as much a healing experience for you as it is technical learning. \n  \nSinging Bowls Level 2 Info:\n  \nExperience is required. Singing Bowls Level 1 is a prerequisite to this class. Inquire if you are unsure if any previous training with other teachers meets the requirements. \nYou will receive a printed copy of the manual as well as a certificate of acknowledgement for completing the five hour intensive training. Feel free to bring your own instruments to work with\, or use what will be provided. \n  \nEmail Katie@FeelYourLight.com with questions.  \nFull 30-Hour Sound Healer Certification program available as well as hourly private lessons. \n  \nLocated at The Sacred Cocoon at The Red Barn in Durham\, CT
URL:https://sacred-cocoon.com/event/singing-bowls-level-2/
LOCATION:The Sacred Cocoon at The Red Barn in Durham\, 352 Main Street\, Durham\, CT\, 06422\, United States
CATEGORIES:Sound Healer Training
ATTACH;FMTTYPE=image/png:https://sacred-cocoon.com/wp-content/uploads/2025/09/Sound-Healer-Training-Graphic.png
END:VEVENT
END:VCALENDAR