BEGIN:VCALENDAR
VERSION:2.0
PRODID:-//Sacred Cocoon Healing, LLC - ECPv6.15.20//NONSGML v1.0//EN
CALSCALE:GREGORIAN
METHOD:PUBLISH
X-WR-CALNAME:Sacred Cocoon Healing, LLC
X-ORIGINAL-URL:https://sacred-cocoon.com
X-WR-CALDESC:Events for Sacred Cocoon Healing, LLC
REFRESH-INTERVAL;VALUE=DURATION:PT1H
X-Robots-Tag:noindex
X-PUBLISHED-TTL:PT1H
BEGIN:VTIMEZONE
TZID:America/New_York
BEGIN:DAYLIGHT
TZOFFSETFROM:-0500
TZOFFSETTO:-0400
TZNAME:EDT
DTSTART:20240310T070000
END:DAYLIGHT
BEGIN:STANDARD
TZOFFSETFROM:-0400
TZOFFSETTO:-0500
TZNAME:EST
DTSTART:20241103T060000
END:STANDARD
BEGIN:DAYLIGHT
TZOFFSETFROM:-0500
TZOFFSETTO:-0400
TZNAME:EDT
DTSTART:20250309T070000
END:DAYLIGHT
BEGIN:STANDARD
TZOFFSETFROM:-0400
TZOFFSETTO:-0500
TZNAME:EST
DTSTART:20251102T060000
END:STANDARD
BEGIN:DAYLIGHT
TZOFFSETFROM:-0500
TZOFFSETTO:-0400
TZNAME:EDT
DTSTART:20260308T070000
END:DAYLIGHT
BEGIN:STANDARD
TZOFFSETFROM:-0400
TZOFFSETTO:-0500
TZNAME:EST
DTSTART:20261101T060000
END:STANDARD
END:VTIMEZONE
BEGIN:VEVENT
DTSTART;TZID=America/New_York:20251231T150000
DTEND;TZID=America/New_York:20251231T163000
DTSTAMP:20260425T121125
CREATED:20251125T150054Z
LAST-MODIFIED:20251125T150054Z
UID:10000447-1767193200-1767198600@sacred-cocoon.com
SUMMARY:New Year's Eve Sound Meditation
DESCRIPTION:Spend New Year’s Eve waving goodbye to 2025 with a sound bath and meditation to clear the way for new beginnings. We’re closing out a “9” year — filled with endings\, redirection\, closures\, and realignment. Now\, we step into 2026\, a “1” year\, ready to build a solid foundation of our own truth. Release the old and welcome in the new. \nJoin me for a short collective card pull to read into the energies of what 2026 may bring. Then relax into the sound as it opens you up to step into the next chapter. Let yourself receive the clarity you seek\, the balance you want\, and the guidance you need to move forward.  \nRelease everything from the past ten years as you clear the path to all that’s available to you. Start the new year with an open awareness of all that is to come. Give yourself the space and support to take the next steps as you acknowledge that your dreams are possible. \nReservation required. Please bring a mat\, blanket\, pillow\, water\, and eye mask (optional) for your comfort. Gravity chairs available upon request (3)\, first come\, first served. Plan to arrive a few minutes early to set up your space. Doors will be locked at 3pm. \n  \nLocated at The Red Barn in Durham\, CT. Please email Katie@FeelYourLight.com with questions.
URL:https://sacred-cocoon.com/event/new-years-eve-sound-meditation/
LOCATION:The Red Barn in Durham\, 352 Main Street\, Durham\, CT\, 06422\, United States
CATEGORIES:Sound Healing
ATTACH;FMTTYPE=image/jpeg:https://sacred-cocoon.com/wp-content/uploads/2025/11/NYE-sound-meditation.jpg
END:VEVENT
END:VCALENDAR